BEGIN:VCALENDAR
VERSION:2.0
PRODID:-//Southwest Colorado Umpires - ECPv6.9.0//NONSGML v1.0//EN
CALSCALE:GREGORIAN
METHOD:PUBLISH
X-ORIGINAL-URL:https://swumpires.com
X-WR-CALDESC:Events for Southwest Colorado Umpires
REFRESH-INTERVAL;VALUE=DURATION:PT1H
X-Robots-Tag:noindex
X-PUBLISHED-TTL:PT1H
BEGIN:VTIMEZONE
TZID:America/Denver
BEGIN:DAYLIGHT
TZOFFSETFROM:-0700
TZOFFSETTO:-0600
TZNAME:MDT
DTSTART:20190310T090000
END:DAYLIGHT
BEGIN:STANDARD
TZOFFSETFROM:-0600
TZOFFSETTO:-0700
TZNAME:MST
DTSTART:20191103T080000
END:STANDARD
END:VTIMEZONE
BEGIN:VEVENT
DTSTART;TZID=America/Denver:20190127T090000
DTEND;TZID=America/Denver:20190127T121500
DTSTAMP:20260423T042737
CREATED:20181210T004442Z
LAST-MODIFIED:20181218T182154Z
UID:10000020-1548579600-1548591300@swumpires.com
SUMMARY:CHSBUA Master Clinic
DESCRIPTION:
URL:https://swumpires.com/event/chsbua-master-clinic/
LOCATION:Wheat Ridge High School\, 9505 W 32nd Ave\, Wheat Ridge\, CO\, 80033\, United States
CATEGORIES:Clinic
ATTACH;FMTTYPE=image/png:https://swumpires.com/wp-content/uploads/2018/12/CHSBUA-Logo.png
END:VEVENT
END:VCALENDAR