BEGIN:VCALENDAR
VERSION:2.0
PRODID:-//Southwest Colorado Umpires - ECPv6.9.0//NONSGML v1.0//EN
CALSCALE:GREGORIAN
METHOD:PUBLISH
X-ORIGINAL-URL:https://swumpires.com
X-WR-CALDESC:Events for Southwest Colorado Umpires
REFRESH-INTERVAL;VALUE=DURATION:PT1H
X-Robots-Tag:noindex
X-PUBLISHED-TTL:PT1H
BEGIN:VTIMEZONE
TZID:America/Denver
BEGIN:DAYLIGHT
TZOFFSETFROM:-0700
TZOFFSETTO:-0600
TZNAME:MDT
DTSTART:20190310T090000
END:DAYLIGHT
BEGIN:STANDARD
TZOFFSETFROM:-0600
TZOFFSETTO:-0700
TZNAME:MST
DTSTART:20191103T080000
END:STANDARD
END:VTIMEZONE
BEGIN:VEVENT
DTSTART;TZID=America/Denver:20190306T190000
DTEND;TZID=America/Denver:20190306T200000
DTSTAMP:20260423T102329
CREATED:20181218T190014Z
LAST-MODIFIED:20181218T190045Z
UID:10000023-1551898800-1551902400@swumpires.com
SUMMARY:Tricks of the Trade
DESCRIPTION:Umpires share their tricks they have gathered\n\nCaring for gear\nShining up the shoes\nBring a chair\nTowel for standing on while changing\nStaying warm/cool\n?\n\n\n\nOnline meetings can be attended through a browser (suggested) or by calling in by phone. Invitation links and numbers are sent out by email. If you are not on our mailing list\, please contact Doug LaMunyon for a meeting invitation link.
URL:https://swumpires.com/event/tricks-of-the-trade/
LOCATION:Online Meeting
CATEGORIES:Area 11 Training
ATTACH;FMTTYPE=image/png:https://swumpires.com/wp-content/uploads/2018/12/SW-CO-Umpires-logo.png
ORGANIZER;CN="Doug LaMunyon":MAILTO:dlamunyon@gmail.com
END:VEVENT
END:VCALENDAR