BEGIN:VCALENDAR
VERSION:2.0
PRODID:-//Southwest Colorado Umpires - ECPv6.9.0//NONSGML v1.0//EN
CALSCALE:GREGORIAN
METHOD:PUBLISH
X-WR-CALNAME:Southwest Colorado Umpires
X-ORIGINAL-URL:https://swumpires.com
X-WR-CALDESC:Events for Southwest Colorado Umpires
REFRESH-INTERVAL;VALUE=DURATION:PT1H
X-Robots-Tag:noindex
X-PUBLISHED-TTL:PT1H
BEGIN:VTIMEZONE
TZID:America/Denver
BEGIN:DAYLIGHT
TZOFFSETFROM:-0700
TZOFFSETTO:-0600
TZNAME:MDT
DTSTART:20190310T090000
END:DAYLIGHT
BEGIN:STANDARD
TZOFFSETFROM:-0600
TZOFFSETTO:-0700
TZNAME:MST
DTSTART:20191103T080000
END:STANDARD
END:VTIMEZONE
BEGIN:VEVENT
DTSTART;TZID=America/Denver:20190220T190000
DTEND;TZID=America/Denver:20190220T200000
DTSTAMP:20260423T101114
CREATED:20181218T185255Z
LAST-MODIFIED:20181221T051341Z
UID:10000025-1550689200-1550692800@swumpires.com
SUMMARY:Handling Conflict
DESCRIPTION:Overview of verbal judo with a guest speaker from the Durango Police Department. \nMeeting place TBD
URL:https://swumpires.com/event/handling-conflict/
CATEGORIES:Area 11 Training
ATTACH;FMTTYPE=image/png:https://swumpires.com/wp-content/uploads/2018/12/SW-CO-Umpires-logo.png
ORGANIZER;CN="Doug LaMunyon":MAILTO:dlamunyon@gmail.com
END:VEVENT
BEGIN:VEVENT
DTSTART;TZID=America/Denver:20190224T130000
DTEND;TZID=America/Denver:20190224T150000
DTSTAMP:20260423T101114
CREATED:20181218T185731Z
LAST-MODIFIED:20181218T185731Z
UID:10000024-1551013200-1551020400@swumpires.com
SUMMARY:Teamwork (2-person)
DESCRIPTION:Review\n\nPlate mechanics 1\nPlate mechanics 2\nBase mechanics\n\n\nCommunication\n\nSigns\nVerbal\n\n\nMovement on ball in play\nRotations\nAsking for help\n\nWhen & how\nCommon situations\n\nPulled foot
URL:https://swumpires.com/event/teamwork-2-person/
LOCATION:Ignacio High School\, 315 Ignacio St\, Ignacio\, CO\, 81137\, United States
CATEGORIES:Area 11 Training
ATTACH;FMTTYPE=image/png:https://swumpires.com/wp-content/uploads/2018/12/SW-CO-Umpires-logo.png
ORGANIZER;CN="Doug LaMunyon":MAILTO:dlamunyon@gmail.com
END:VEVENT
END:VCALENDAR