BEGIN:VCALENDAR
VERSION:2.0
PRODID:-//Southwest Colorado Umpires - ECPv6.9.0//NONSGML v1.0//EN
CALSCALE:GREGORIAN
METHOD:PUBLISH
X-WR-CALNAME:Southwest Colorado Umpires
X-ORIGINAL-URL:https://swumpires.com
X-WR-CALDESC:Events for Southwest Colorado Umpires
REFRESH-INTERVAL;VALUE=DURATION:PT1H
X-Robots-Tag:noindex
X-PUBLISHED-TTL:PT1H
BEGIN:VTIMEZONE
TZID:America/Denver
BEGIN:DAYLIGHT
TZOFFSETFROM:-0700
TZOFFSETTO:-0600
TZNAME:MDT
DTSTART:20190310T090000
END:DAYLIGHT
BEGIN:STANDARD
TZOFFSETFROM:-0600
TZOFFSETTO:-0700
TZNAME:MST
DTSTART:20191103T080000
END:STANDARD
END:VTIMEZONE
BEGIN:VEVENT
DTSTART;TZID=America/Denver:20190130T190000
DTEND;TZID=America/Denver:20190130T210000
DTSTAMP:20260423T132053
CREATED:20181218T180009Z
LAST-MODIFIED:20181218T182208Z
UID:10000014-1548874800-1548882000@swumpires.com
SUMMARY:New Umpire Testing
DESCRIPTION:Online meetings can be attended through a browser (suggested) or by calling in by phone. Invitation links and numbers are sent out by email. If you are not on our mailing list\, please contact Doug LaMunyon for a meeting invitation link.
URL:https://swumpires.com/event/new-umpire-testing/
LOCATION:Online Meeting
CATEGORIES:Area 11 Training
ATTACH;FMTTYPE=image/png:https://swumpires.com/wp-content/uploads/2018/12/SW-CO-Umpires-logo.png
ORGANIZER;CN="Doug LaMunyon":MAILTO:dlamunyon@gmail.com
END:VEVENT
BEGIN:VEVENT
DTSTART;TZID=America/Denver:20190203T190000
DTEND;TZID=America/Denver:20190203T200000
DTSTAMP:20260423T132053
CREATED:20181218T180638Z
LAST-MODIFIED:20181218T182224Z
UID:10000013-1549220400-1549224000@swumpires.com
SUMMARY:New Umpire Basic Responsibilities
DESCRIPTION:Base\n\nFair/foul\nCatch/no catch\nBase touches\nTag ups\n\n\nPlate\n\nFair/foul\nCatch/no catch\nBase touches\nTag ups\n\n\nCommunication\n\nSignals\nVerbal\n\n\n\nOnline meetings can be attended through a browser (suggested) or by calling in by phone. Invitation links and numbers are sent out by email. If you are not on our mailing list\, please contact Doug LaMunyon for a meeting invitation link.
URL:https://swumpires.com/event/new-umpire-basic-responsibilities/
LOCATION:Online Meeting
CATEGORIES:Area 11 Training
ATTACH;FMTTYPE=image/png:https://swumpires.com/wp-content/uploads/2018/12/SW-CO-Umpires-logo.png
ORGANIZER;CN="Doug LaMunyon":MAILTO:dlamunyon@gmail.com
END:VEVENT
END:VCALENDAR