BEGIN:VCALENDAR
VERSION:2.0
PRODID:-//Southwest Colorado Umpires - ECPv6.9.0//NONSGML v1.0//EN
CALSCALE:GREGORIAN
METHOD:PUBLISH
X-WR-CALNAME:Southwest Colorado Umpires
X-ORIGINAL-URL:https://swumpires.com
X-WR-CALDESC:Events for Southwest Colorado Umpires
REFRESH-INTERVAL;VALUE=DURATION:PT1H
X-Robots-Tag:noindex
X-PUBLISHED-TTL:PT1H
BEGIN:VTIMEZONE
TZID:America/Denver
BEGIN:DAYLIGHT
TZOFFSETFROM:-0700
TZOFFSETTO:-0600
TZNAME:MDT
DTSTART:20190310T090000
END:DAYLIGHT
BEGIN:STANDARD
TZOFFSETFROM:-0600
TZOFFSETTO:-0700
TZNAME:MST
DTSTART:20191103T080000
END:STANDARD
END:VTIMEZONE
BEGIN:VEVENT
DTSTART;TZID=America/Denver:20190203T190000
DTEND;TZID=America/Denver:20190203T200000
DTSTAMP:20260423T084222
CREATED:20181218T180638Z
LAST-MODIFIED:20181218T182224Z
UID:10000013-1549220400-1549224000@swumpires.com
SUMMARY:New Umpire Basic Responsibilities
DESCRIPTION:Base\n\nFair/foul\nCatch/no catch\nBase touches\nTag ups\n\n\nPlate\n\nFair/foul\nCatch/no catch\nBase touches\nTag ups\n\n\nCommunication\n\nSignals\nVerbal\n\n\n\nOnline meetings can be attended through a browser (suggested) or by calling in by phone. Invitation links and numbers are sent out by email. If you are not on our mailing list\, please contact Doug LaMunyon for a meeting invitation link.
URL:https://swumpires.com/event/new-umpire-basic-responsibilities/
LOCATION:Online Meeting
CATEGORIES:Area 11 Training
ATTACH;FMTTYPE=image/png:https://swumpires.com/wp-content/uploads/2018/12/SW-CO-Umpires-logo.png
ORGANIZER;CN="Doug LaMunyon":MAILTO:dlamunyon@gmail.com
END:VEVENT
BEGIN:VEVENT
DTSTART;TZID=America/Denver:20190206T183000
DTEND;TZID=America/Denver:20190206T190000
DTSTAMP:20260423T084222
CREATED:20181218T181031Z
LAST-MODIFIED:20181218T182241Z
UID:10000012-1549477800-1549479600@swumpires.com
SUMMARY:New Umpire Season Logistics
DESCRIPTION:Game assignments & Arbiter\n\nBlocking out\nAccepting assignments\nPayments through Arbiter\n\n\n2019 Pay\n\nAmounts JV/V & travel\nDistrict pay protocols\nW-9 forms\n\n\nGame day/week protocol\n\nContact partner ahead of time\nShow up time\nPregame with partner\nTiming taking the field\nReview suggested infield/outfield routine\nSign for the AD\nExiting the field\nSchool escort\nDebrief\n\n\n\nOnline meetings can be attended through a browser (suggested) or by calling in by phone. Invitation links and numbers are sent out by email. If you are not on our mailing list\, please contact Doug LaMunyon for a meeting invitation link.
URL:https://swumpires.com/event/new-umpire-season-logistics/
LOCATION:Online Meeting
CATEGORIES:Area 11 Training
ATTACH;FMTTYPE=image/png:https://swumpires.com/wp-content/uploads/2018/12/SW-CO-Umpires-logo.png
ORGANIZER;CN="Doug LaMunyon":MAILTO:dlamunyon@gmail.com
END:VEVENT
BEGIN:VEVENT
DTSTART;TZID=America/Denver:20190206T190000
DTEND;TZID=America/Denver:20190206T200000
DTSTAMP:20260423T084222
CREATED:20181218T183359Z
LAST-MODIFIED:20181218T183359Z
UID:10000028-1549479600-1549483200@swumpires.com
SUMMARY:Game Movement (2-person)
DESCRIPTION:Base\n\nBall in play\nRotations\n\n\nPlate\n\nBall in play\nRotations\n\n\nStop for critical action\nGaining ground to make a call
URL:https://swumpires.com/event/game-movement-2-person/
LOCATION:Online Meeting
CATEGORIES:Area 11 Training
ATTACH;FMTTYPE=image/png:https://swumpires.com/wp-content/uploads/2018/12/SW-CO-Umpires-logo.png
ORGANIZER;CN="Doug LaMunyon":MAILTO:dlamunyon@gmail.com
END:VEVENT
BEGIN:VEVENT
DTSTART;TZID=America/Denver:20190209T130000
DTEND;TZID=America/Denver:20190209T150000
DTSTAMP:20260423T084222
CREATED:20181218T183940Z
LAST-MODIFIED:20181221T050847Z
UID:10000027-1549717200-1549724400@swumpires.com
SUMMARY:Plate & Field Mechanics
DESCRIPTION:Plate\n\nUncaught third strike\nBunts\nInfield plays\n\nBases empty\nRunner on\n\n\nPlays at the plate\n\n\nField\n\nPlays at first\n\nClean hit (rotation)\nOut/safe\nSwipe tag\nPulled foot\n\n\nInfield plays\n\nFrom A position\n\nClean hit (rotation)\nOut/safe\nSwipe tag\nPulled foot\n\n\nFrom B position\n\nBall to right\nBall to left\n\n\nPlays from C position\n\nBall to right\nBall to left\n\n\nDouble plays\n\n\nOutfield plays\n\nRoutine plays\nTrouble balls\nFrom A\, B & C positions\n\n\nPickoffs\n\nFrom B position\nFrom C position\n\n\n\n\n\nNote: We have the gym reserved from 12-4 in case we decide we need more time for this training.
URL:https://swumpires.com/event/plate-field-mechanics/
LOCATION:Durango High School\, 2390 Main Ave\, Durango\, CO\, 81301\, United States
CATEGORIES:Area 11 Training
ATTACH;FMTTYPE=image/png:https://swumpires.com/wp-content/uploads/2018/12/SW-CO-Umpires-logo.png
ORGANIZER;CN="Doug LaMunyon":MAILTO:dlamunyon@gmail.com
END:VEVENT
BEGIN:VEVENT
DTSTART;TZID=America/Denver:20190210T190000
DTEND;TZID=America/Denver:20190210T210000
DTSTAMP:20260423T084223
CREATED:20181218T191326Z
LAST-MODIFIED:20181218T191326Z
UID:10000040-1549825200-1549832400@swumpires.com
SUMMARY:Veteran Umpire Testing
DESCRIPTION:Online meetings can be attended through a browser (suggested) or by calling in by phone. Invitation links and numbers are sent out by email. If you are not on our mailing list\, please contact Doug LaMunyon for a meeting invitation link.
URL:https://swumpires.com/event/veteran-umpire-testing/
LOCATION:Online Meeting
CATEGORIES:Area 11 Training
ATTACH;FMTTYPE=image/png:https://swumpires.com/wp-content/uploads/2018/12/SW-CO-Umpires-logo.png
ORGANIZER;CN="Doug LaMunyon":MAILTO:dlamunyon@gmail.com
END:VEVENT
BEGIN:VEVENT
DTSTART;TZID=America/Denver:20190213T190000
DTEND;TZID=America/Denver:20190213T200000
DTSTAMP:20260423T084223
CREATED:20181218T184348Z
LAST-MODIFIED:20181218T184348Z
UID:10000026-1550084400-1550088000@swumpires.com
SUMMARY:Game Management
DESCRIPTION:Game management\n\nPlate meeting\nHandling lineups\nWarnings/restrictions/ejections\nBetween innings\nIssues referred to site manager\nGame ending procedures\n\n\nEjections\n\nFollow protocol\nPartner help separating from situation\nTake notes\nNotify area director\nWriting report\nSubmitting to state\n\n\n\nOnline meetings can be attended through a browser (suggested) or by calling in by phone. Invitation links and numbers are sent out by email. If you are not on our mailing list\, please contact Doug LaMunyon for a meeting invitation link.
URL:https://swumpires.com/event/game-management/
LOCATION:Online Meeting
CATEGORIES:Area 11 Training
ATTACH;FMTTYPE=image/png:https://swumpires.com/wp-content/uploads/2018/12/SW-CO-Umpires-logo.png
ORGANIZER;CN="Doug LaMunyon":MAILTO:dlamunyon@gmail.com
END:VEVENT
BEGIN:VEVENT
DTSTART;TZID=America/Denver:20190220T190000
DTEND;TZID=America/Denver:20190220T200000
DTSTAMP:20260423T084223
CREATED:20181218T185255Z
LAST-MODIFIED:20181221T051341Z
UID:10000025-1550689200-1550692800@swumpires.com
SUMMARY:Handling Conflict
DESCRIPTION:Overview of verbal judo with a guest speaker from the Durango Police Department. \nMeeting place TBD
URL:https://swumpires.com/event/handling-conflict/
CATEGORIES:Area 11 Training
ATTACH;FMTTYPE=image/png:https://swumpires.com/wp-content/uploads/2018/12/SW-CO-Umpires-logo.png
ORGANIZER;CN="Doug LaMunyon":MAILTO:dlamunyon@gmail.com
END:VEVENT
BEGIN:VEVENT
DTSTART;TZID=America/Denver:20190224T130000
DTEND;TZID=America/Denver:20190224T150000
DTSTAMP:20260423T084223
CREATED:20181218T185731Z
LAST-MODIFIED:20181218T185731Z
UID:10000024-1551013200-1551020400@swumpires.com
SUMMARY:Teamwork (2-person)
DESCRIPTION:Review\n\nPlate mechanics 1\nPlate mechanics 2\nBase mechanics\n\n\nCommunication\n\nSigns\nVerbal\n\n\nMovement on ball in play\nRotations\nAsking for help\n\nWhen & how\nCommon situations\n\nPulled foot
URL:https://swumpires.com/event/teamwork-2-person/
LOCATION:Ignacio High School\, 315 Ignacio St\, Ignacio\, CO\, 81137\, United States
CATEGORIES:Area 11 Training
ATTACH;FMTTYPE=image/png:https://swumpires.com/wp-content/uploads/2018/12/SW-CO-Umpires-logo.png
ORGANIZER;CN="Doug LaMunyon":MAILTO:dlamunyon@gmail.com
END:VEVENT
END:VCALENDAR