BEGIN:VCALENDAR
VERSION:2.0
PRODID:-//Southwest Colorado Umpires - ECPv6.9.0//NONSGML v1.0//EN
CALSCALE:GREGORIAN
METHOD:PUBLISH
X-ORIGINAL-URL:https://swumpires.com
X-WR-CALDESC:Events for Southwest Colorado Umpires
REFRESH-INTERVAL;VALUE=DURATION:PT1H
X-Robots-Tag:noindex
X-PUBLISHED-TTL:PT1H
BEGIN:VTIMEZONE
TZID:America/Denver
BEGIN:DAYLIGHT
TZOFFSETFROM:-0700
TZOFFSETTO:-0600
TZNAME:MDT
DTSTART:20200308T090000
END:DAYLIGHT
BEGIN:STANDARD
TZOFFSETFROM:-0600
TZOFFSETTO:-0700
TZNAME:MST
DTSTART:20201101T080000
END:STANDARD
END:VTIMEZONE
BEGIN:VEVENT
DTSTART;TZID=America/Denver:20200128T180000
DTEND;TZID=America/Denver:20200128T200000
DTSTAMP:20260421T120409
CREATED:20200128T042828Z
LAST-MODIFIED:20200128T042828Z
UID:10000070-1580234400-1580241600@swumpires.com
SUMMARY:2020 Back to Business Meeting
DESCRIPTION:
URL:https://swumpires.com/event/2020-back-to-business-meeting/
LOCATION:Ska Brewing\, 225 Girard St.\, Durango\, CO\, 81303\, United States
CATEGORIES:Area 11 Meeting
ATTACH;FMTTYPE=image/png:https://swumpires.com/wp-content/uploads/2018/12/SW-CO-Umpires-logo.png
END:VEVENT
END:VCALENDAR