BEGIN:VCALENDAR
VERSION:2.0
PRODID:-//Southwest Colorado Umpires - ECPv6.9.0//NONSGML v1.0//EN
CALSCALE:GREGORIAN
METHOD:PUBLISH
X-WR-CALNAME:Southwest Colorado Umpires
X-ORIGINAL-URL:https://swumpires.com
X-WR-CALDESC:Events for Southwest Colorado Umpires
REFRESH-INTERVAL;VALUE=DURATION:PT1H
X-Robots-Tag:noindex
X-PUBLISHED-TTL:PT1H
BEGIN:VTIMEZONE
TZID:America/Denver
BEGIN:DAYLIGHT
TZOFFSETFROM:-0700
TZOFFSETTO:-0600
TZNAME:MDT
DTSTART:20190310T090000
END:DAYLIGHT
BEGIN:STANDARD
TZOFFSETFROM:-0600
TZOFFSETTO:-0700
TZNAME:MST
DTSTART:20191103T080000
END:STANDARD
END:VTIMEZONE
BEGIN:VEVENT
DTSTART;TZID=America/Denver:20190512T190000
DTEND;TZID=America/Denver:20190512T200000
DTSTAMP:20260421T191740
CREATED:20181218T192654Z
LAST-MODIFIED:20181218T192654Z
UID:10000035-1557687600-1557691200@swumpires.com
SUMMARY:Area 11 Meeting 5/12/19
DESCRIPTION:Regular meetings are schedule throughout the season. These meetings are held online. \nOnline meetings can be attended through a browser (suggested) or by calling in by phone. Invitation links and numbers are sent out by email. If you are not on our mailing list\, please contact Doug LaMunyon for a meeting invitation link.
URL:https://swumpires.com/event/area-11-meeting-5-12-19/
LOCATION:Online Meeting
CATEGORIES:Area 11 Meeting
ATTACH;FMTTYPE=image/png:https://swumpires.com/wp-content/uploads/2018/12/SW-CO-Umpires-logo.png
ORGANIZER;CN="Doug LaMunyon":MAILTO:dlamunyon@gmail.com
END:VEVENT
BEGIN:VEVENT
DTSTART;TZID=America/Denver:20190526T190000
DTEND;TZID=America/Denver:20190526T200000
DTSTAMP:20260421T191740
CREATED:20181218T192826Z
LAST-MODIFIED:20181218T192826Z
UID:10000034-1558897200-1558900800@swumpires.com
SUMMARY:Area 11 Meeting 5/26/19
DESCRIPTION:Regular meetings are schedule throughout the season. These meetings are held online. \nOnline meetings can be attended through a browser (suggested) or by calling in by phone. Invitation links and numbers are sent out by email. If you are not on our mailing list\, please contact Doug LaMunyon for a meeting invitation link.
URL:https://swumpires.com/event/area-11-meeting-5-26-19/
LOCATION:Online Meeting
CATEGORIES:Area 11 Meeting
ATTACH;FMTTYPE=image/png:https://swumpires.com/wp-content/uploads/2018/12/SW-CO-Umpires-logo.png
ORGANIZER;CN="Doug LaMunyon":MAILTO:dlamunyon@gmail.com
END:VEVENT
END:VCALENDAR